BEGIN:VCALENDAR
PRODID:-//Gavan PropertyCalendar
VERSION:2.0
METHOD:PUBLISH
BEGIN:VEVENT
URL:https://www.gavanproperty.com.au/1576/24-read-street-blakehurst
ORGANIZER:info@gavanproperty.com.au
DTSTART:20200307T134500
DTEND:
LOCATION:24 Read Street,  Blakehurst
DTSTAMP:20200229T215859
SUMMARY:Gavan Property Auction - 24 Read Street,  Blakehurst
DESCRIPTION:Auction: 24 Read Street,  Blakehurst 
Saturday 01:45 PM
Click the link for full listing information:https://www.gavanproperty.com.au/1576/24-read-street-blakehurst
CLASS:PUBLIC
BEGIN:VALARM
TRIGGER:-PT1D
ACTION:DISPLAY
DESCRIPTION:Reminder
END:VALARM
END:VEVENT
END:VCALENDAR