BEGIN:VCALENDAR
PRODID:-//Gavan PropertyCalendar
VERSION:2.0
METHOD:PUBLISH
BEGIN:VEVENT
URL:https://www.gavanproperty.com.au/1613/7-ramsay-road-panania
ORGANIZER:info@gavanproperty.com.au
DTSTART:20200229T094500
DTEND:
LOCATION:7 Ramsay Road,  Panania
DTSTAMP:20200229T215850
SUMMARY:Gavan Property Auction - 7 Ramsay Road,  Panania
DESCRIPTION:Auction: 7 Ramsay Road,  Panania 
Saturday 09:45 AM
Click the link for full listing information:https://www.gavanproperty.com.au/1613/7-ramsay-road-panania
CLASS:PUBLIC
BEGIN:VALARM
TRIGGER:-PT1D
ACTION:DISPLAY
DESCRIPTION:Reminder
END:VALARM
END:VEVENT
END:VCALENDAR