BEGIN:VCALENDAR
PRODID:-//Gavan PropertyCalendar
VERSION:2.0
METHOD:PUBLISH
BEGIN:VEVENT
URL:https://www.gavanproperty.com.au/1622/49-edward-street-carlton
ORGANIZER:info@gavanproperty.com.au
DTSTART:20200314T114500
DTEND:
LOCATION:49 Edward Street,  Carlton
DTSTAMP:20200229T215902
SUMMARY:Gavan Property Auction - 49 Edward Street,  Carlton
DESCRIPTION:Auction: 49 Edward Street,  Carlton 
Saturday 11:45 AM
Click the link for full listing information:https://www.gavanproperty.com.au/1622/49-edward-street-carlton
CLASS:PUBLIC
BEGIN:VALARM
TRIGGER:-PT1D
ACTION:DISPLAY
DESCRIPTION:Reminder
END:VALARM
END:VEVENT
END:VCALENDAR