BEGIN:VCALENDAR
PRODID:-//Gavan PropertyCalendar
VERSION:2.0
METHOD:PUBLISH
BEGIN:VEVENT
URL:https://www.gavanproperty.com.au/1622/49-edward-street-carlton
ORGANIZER:info@gavanproperty.com.au
DTSTART:20200314T113000
DTEND:20200314T120000
LOCATION:49 Edward Street,  Carlton
DTSTAMP:20200229T215819
SUMMARY:Gavan Property Open House - 49 Edward Street,  Carlton
DESCRIPTION:Open House: 49 Edward Street,  Carlton 
Saturday 11:30-12:00 PM
Click the link for full listing information:https://www.gavanproperty.com.au/1622/49-edward-street-carlton
CLASS:PUBLIC
BEGIN:VALARM
TRIGGER:-PT1D
ACTION:DISPLAY
DESCRIPTION:Reminder
END:VALARM
END:VEVENT
END:VCALENDAR