BEGIN:VCALENDAR
PRODID:-//Gavan PropertyCalendar
VERSION:2.0
METHOD:PUBLISH
BEGIN:VEVENT
URL:https://www.gavanproperty.com.au/1614/7-tea-tree-place-lugarno
ORGANIZER:info@gavanproperty.com.au
DTSTART:20200307T123000
DTEND:20200307T130000
LOCATION:7 Tea Tree Place,  Lugarno
DTSTAMP:20200229T215742
SUMMARY:Gavan Property Open House - 7 Tea Tree Place,  Lugarno
DESCRIPTION:Open House: 7 Tea Tree Place,  Lugarno 
Saturday 12:30-01:00 PM
Click the link for full listing information:https://www.gavanproperty.com.au/1614/7-tea-tree-place-lugarno
CLASS:PUBLIC
BEGIN:VALARM
TRIGGER:-PT1D
ACTION:DISPLAY
DESCRIPTION:Reminder
END:VALARM
END:VEVENT
END:VCALENDAR