BEGIN:VCALENDAR
PRODID:-//Gavan PropertyCalendar
VERSION:2.0
METHOD:PUBLISH
BEGIN:VEVENT
URL:https://www.gavanproperty.com.au/1607/44-mazarin-street-riverwood
ORGANIZER:info@gavanproperty.com.au
DTSTART:20200229T091000
DTEND:20200229T092500
LOCATION:44 Mazarin Street,  Riverwood
DTSTAMP:20200229T220457
SUMMARY:Gavan Property Open House - 44 Mazarin Street,  Riverwood
DESCRIPTION:Open House: 44 Mazarin Street,  Riverwood 
Saturday 09:10-09:25 AM
Click the link for full listing information:https://www.gavanproperty.com.au/1607/44-mazarin-street-riverwood
CLASS:PUBLIC
BEGIN:VALARM
TRIGGER:-PT1D
ACTION:DISPLAY
DESCRIPTION:Reminder
END:VALARM
END:VEVENT
END:VCALENDAR