BEGIN:VCALENDAR
PRODID:-//Gavan PropertyCalendar
VERSION:2.0
METHOD:PUBLISH
BEGIN:VEVENT
URL:https://www.gavanproperty.com.au/1591/9-ballantyne-road-mortdale
ORGANIZER:info@gavanproperty.com.au
DTSTART:20200229T102000
DTEND:20200229T103500
LOCATION:9 Ballantyne Road,  Mortdale
DTSTAMP:20200229T220502
SUMMARY:Gavan Property Open House - 9 Ballantyne Road,  Mortdale
DESCRIPTION:Open House: 9 Ballantyne Road,  Mortdale 
Saturday 10:20-10:35 AM
Click the link for full listing information:https://www.gavanproperty.com.au/1591/9-ballantyne-road-mortdale
CLASS:PUBLIC
BEGIN:VALARM
TRIGGER:-PT1D
ACTION:DISPLAY
DESCRIPTION:Reminder
END:VALARM
END:VEVENT
END:VCALENDAR