BEGIN:VCALENDAR
PRODID:-//Gavan PropertyCalendar
VERSION:2.0
METHOD:PUBLISH
BEGIN:VEVENT
URL:https://www.gavanproperty.com.au/1604/101-connells-point-road-south-hurstville
ORGANIZER:info@gavanproperty.com.au
DTSTART:20200314T103000
DTEND:20200314T110000
LOCATION:101 Connells Point Road,  South Hurstville
DTSTAMP:20200229T215812
SUMMARY:Gavan Property Open House - 101 Connells Point Road,  South Hurstville
DESCRIPTION:Open House: 101 Connells Point Road,  South Hurstville 
Saturday 10:30-11:00 AM
Click the link for full listing information:https://www.gavanproperty.com.au/1604/101-connells-point-road-south-hurstville
CLASS:PUBLIC
BEGIN:VALARM
TRIGGER:-PT1D
ACTION:DISPLAY
DESCRIPTION:Reminder
END:VALARM
END:VEVENT
END:VCALENDAR