BEGIN:VCALENDAR
PRODID:-//Gavan PropertyCalendar
VERSION:2.0
METHOD:PUBLISH
BEGIN:VEVENT
URL:https://www.gavanproperty.com.au/1623/202-154-156-ramsgate-road-ramsgate-beach
ORGANIZER:info@gavanproperty.com.au
DTSTART:20200314T123000
DTEND:20200314T130000
LOCATION:202/154-156 Ramsgate Road,  Ramsgate Beach
DTSTAMP:20200229T215822
SUMMARY:Gavan Property Open House - 202/154-156 Ramsgate Road,  Ramsgate Beach
DESCRIPTION:Open House: 202/154-156 Ramsgate Road,  Ramsgate Beach 
Saturday 12:30-01:00 PM
Click the link for full listing information:https://www.gavanproperty.com.au/1623/202-154-156-ramsgate-road-ramsgate-beach
CLASS:PUBLIC
BEGIN:VALARM
TRIGGER:-PT1D
ACTION:DISPLAY
DESCRIPTION:Reminder
END:VALARM
END:VEVENT
END:VCALENDAR