BEGIN:VCALENDAR
PRODID:-//Gavan PropertyCalendar
VERSION:2.0
METHOD:PUBLISH
BEGIN:VEVENT
URL:https://www.gavanproperty.com.au/1426/47-hampton-street-hurstville-grove
ORGANIZER:info@gavanproperty.com.au
DTSTART:20200307T113000
DTEND:20200307T120000
LOCATION:47 Hampton Street,  Hurstville Grove
DTSTAMP:20200229T215732
SUMMARY:Gavan Property Open House - 47 Hampton Street,  Hurstville Grove
DESCRIPTION:Open House: 47 Hampton Street,  Hurstville Grove 
Saturday 11:30-12:00 PM
Click the link for full listing information:https://www.gavanproperty.com.au/1426/47-hampton-street-hurstville-grove
CLASS:PUBLIC
BEGIN:VALARM
TRIGGER:-PT1D
ACTION:DISPLAY
DESCRIPTION:Reminder
END:VALARM
END:VEVENT
END:VCALENDAR