BEGIN:VCALENDAR
PRODID:-//Gavan PropertyCalendar
VERSION:2.0
METHOD:PUBLISH
BEGIN:VEVENT
URL:https://www.gavanproperty.com.au/1625/11-roach-street-arncliffe
ORGANIZER:info@gavanproperty.com.au
DTSTART:20200229T143000
DTEND:20200229T150000
LOCATION:11 Roach Street,  Arncliffe
DTSTAMP:20200229T215712
SUMMARY:Gavan Property Open House - 11 Roach Street,  Arncliffe
DESCRIPTION:Open House: 11 Roach Street,  Arncliffe 
Saturday 02:30-03:00 PM
Click the link for full listing information:https://www.gavanproperty.com.au/1625/11-roach-street-arncliffe
CLASS:PUBLIC
BEGIN:VALARM
TRIGGER:-PT1D
ACTION:DISPLAY
DESCRIPTION:Reminder
END:VALARM
END:VEVENT
END:VCALENDAR