BEGIN:VCALENDAR
PRODID:-//Gavan PropertyCalendar
VERSION:2.0
METHOD:PUBLISH
BEGIN:VEVENT
URL:https://www.gavanproperty.com.au/1626/8-bell-avenue-beverly-hills
ORGANIZER:info@gavanproperty.com.au
DTSTART:20200321T103000
DTEND:20200321T110000
LOCATION:8 Bell Avenue,  Beverly Hills
DTSTAMP:20200229T215829
SUMMARY:Gavan Property Open House - 8 Bell Avenue,  Beverly Hills
DESCRIPTION:Open House: 8 Bell Avenue,  Beverly Hills 
Saturday 10:30-11:00 AM
Click the link for full listing information:https://www.gavanproperty.com.au/1626/8-bell-avenue-beverly-hills
CLASS:PUBLIC
BEGIN:VALARM
TRIGGER:-PT1D
ACTION:DISPLAY
DESCRIPTION:Reminder
END:VALARM
END:VEVENT
END:VCALENDAR