BEGIN:VCALENDAR
PRODID:-//Gavan PropertyCalendar
VERSION:2.0
METHOD:PUBLISH
BEGIN:VEVENT
URL:https://www.gavanproperty.com.au/1617/9-26-32-oxford-street-mortdale
ORGANIZER:info@gavanproperty.com.au
DTSTART:20200229T111500
DTEND:20200229T113000
LOCATION:9/26-32 Oxford Street,  Mortdale
DTSTAMP:20200229T220514
SUMMARY:Gavan Property Open House - 9/26-32 Oxford Street,  Mortdale
DESCRIPTION:Open House: 9/26-32 Oxford Street,  Mortdale 
Saturday 11:15-11:30 AM
Click the link for full listing information:https://www.gavanproperty.com.au/1617/9-26-32-oxford-street-mortdale
CLASS:PUBLIC
BEGIN:VALARM
TRIGGER:-PT1D
ACTION:DISPLAY
DESCRIPTION:Reminder
END:VALARM
END:VEVENT
END:VCALENDAR